BEGIN:VCALENDAR
VERSION:2.0
PRODID:-//Wijkcentrum De Oever - ECPv6.15.20//NONSGML v1.0//EN
CALSCALE:GREGORIAN
METHOD:PUBLISH
X-WR-CALNAME:Wijkcentrum De Oever
X-ORIGINAL-URL:https://de-oever.nl
X-WR-CALDESC:Evenementen voor Wijkcentrum De Oever
REFRESH-INTERVAL;VALUE=DURATION:PT1H
X-Robots-Tag:noindex
X-PUBLISHED-TTL:PT1H
BEGIN:VTIMEZONE
TZID:Europe/Amsterdam
BEGIN:DAYLIGHT
TZOFFSETFROM:+0100
TZOFFSETTO:+0200
TZNAME:CEST
DTSTART:20250330T010000
END:DAYLIGHT
BEGIN:STANDARD
TZOFFSETFROM:+0200
TZOFFSETTO:+0100
TZNAME:CET
DTSTART:20251026T010000
END:STANDARD
BEGIN:DAYLIGHT
TZOFFSETFROM:+0100
TZOFFSETTO:+0200
TZNAME:CEST
DTSTART:20260329T010000
END:DAYLIGHT
BEGIN:STANDARD
TZOFFSETFROM:+0200
TZOFFSETTO:+0100
TZNAME:CET
DTSTART:20261025T010000
END:STANDARD
BEGIN:DAYLIGHT
TZOFFSETFROM:+0100
TZOFFSETTO:+0200
TZNAME:CEST
DTSTART:20270328T010000
END:DAYLIGHT
BEGIN:STANDARD
TZOFFSETFROM:+0200
TZOFFSETTO:+0100
TZNAME:CET
DTSTART:20271031T010000
END:STANDARD
END:VTIMEZONE
BEGIN:VEVENT
DTSTART;TZID=Europe/Amsterdam:20260425T140000
DTEND;TZID=Europe/Amsterdam:20260425T190000
DTSTAMP:20260420T143900
CREATED:20260420T094401Z
LAST-MODIFIED:20260420T094702Z
UID:807717-1777125600-1777143600@de-oever.nl
SUMMARY:Lentebal - Vereniging tropenvrienden Alkmaar
DESCRIPTION:LENTEBAL– zaterdag 25 april 2026 vieren wij de lente met live muziek\, dansjes en makan!\n\nBand: Wipe out selection Wipe Out Selection\nCatering: Siska en Sennies
URL:https://de-oever.nl/event/gezellige-dansmiddag-stichting-bersamaju/
END:VEVENT
END:VCALENDAR